BEGIN:VCALENDAR
VERSION:2.0
PRODID:djj.georgia.gov
X-WR-TIMEZONE:America/New_York
BEGIN:VTIMEZONE
TZID:America/New_York
X-LIC-LOCATION:America/New_York
END:VTIMEZONE
BEGIN:VEVENT
UID:60bc635fe2f89
DTSTART;VALUE=DATE:20191225
SEQUENCE:0
TRANSP:OPAQUE
DTEND;VALUE=DATE:20191226
URL:https://djj.georgia.gov/events/2019-12-25/christmas-day
SUMMARY:Christmas Day
CLASS:PUBLIC
DESCRIPTION:No school for teachers or students
X-MICROSOFT-CDO-ALLDAYEVENT:TRUE
DTSTAMP:20210606T015543Z
END:VEVENT
END:VCALENDAR