BEGIN:VCALENDAR
VERSION:2.0
PRODID:djj.georgia.gov
X-WR-TIMEZONE:America/New_York
BEGIN:VTIMEZONE
TZID:America/New_York
X-LIC-LOCATION:America/New_York
END:VTIMEZONE
BEGIN:VEVENT
UID:60bc63662b5e4
DTSTART;VALUE=DATE:20191224
SEQUENCE:0
TRANSP:OPAQUE
DTEND;VALUE=DATE:20191225
URL:https://djj.georgia.gov/events/2019-12-24/washingtons-birthday-obs
SUMMARY:Washington's Birthday (OBS)
CLASS:PUBLIC
DESCRIPTION:No school for teachers or students
X-MICROSOFT-CDO-ALLDAYEVENT:TRUE
DTSTAMP:20210606T015550Z
END:VEVENT
END:VCALENDAR