BEGIN:VCALENDAR
VERSION:2.0
PRODID:djj.georgia.gov
X-WR-TIMEZONE:America/New_York
BEGIN:VTIMEZONE
TZID:America/New_York
X-LIC-LOCATION:America/New_York
END:VTIMEZONE
BEGIN:VEVENT
UID:60be5b63d7f43
DTSTART;VALUE=DATE:20190308
SEQUENCE:0
TRANSP:OPAQUE
DTEND;VALUE=DATE:20190312
URL:https://djj.georgia.gov/events/2019-03-08/mid-semester-break
SUMMARY:Mid-Semester Break
CLASS:PUBLIC
DESCRIPTION:No school for teachers or students
X-MICROSOFT-CDO-ALLDAYEVENT:TRUE
DTSTAMP:20210607T134611Z
END:VEVENT
END:VCALENDAR