BEGIN:VCALENDAR
VERSION:2.0
PRODID:djj.georgia.gov
X-WR-TIMEZONE:America/New_York
BEGIN:VTIMEZONE
TZID:America/New_York
X-LIC-LOCATION:America/New_York
END:VTIMEZONE
BEGIN:VEVENT
UID:60be5b6aca612
DTSTART;VALUE=DATE:20190208
SEQUENCE:0
TRANSP:OPAQUE
DTEND;VALUE=DATE:20190212
URL:https://djj.georgia.gov/events/2019-02-08/winter-break
SUMMARY:Winter Break
CLASS:PUBLIC
DESCRIPTION:No school for teachers or students
X-MICROSOFT-CDO-ALLDAYEVENT:TRUE
DTSTAMP:20210607T134618Z
END:VEVENT
END:VCALENDAR