BEGIN:VCALENDAR
VERSION:2.0
PRODID:djj.georgia.gov
X-WR-TIMEZONE:America/New_York
BEGIN:VTIMEZONE
TZID:America/New_York
X-LIC-LOCATION:America/New_York
END:VTIMEZONE
BEGIN:VEVENT
UID:60b832dbf03ee
DTSTART;VALUE=DATE:20210614
SEQUENCE:0
TRANSP:OPAQUE
URL:https://djj.georgia.gov/events/2021-06-14/pre-planning-day
SUMMARY:Pre-Planning Day
CLASS:PUBLIC
X-MICROSOFT-CDO-ALLDAYEVENT:TRUE
DTSTAMP:20210602T213939Z
END:VEVENT
END:VCALENDAR