BEGIN:VCALENDAR
VERSION:2.0
PRODID:djj.georgia.gov
X-WR-TIMEZONE:America/New_York
BEGIN:VTIMEZONE
TZID:America/New_York
X-LIC-LOCATION:America/New_York
END:VTIMEZONE
BEGIN:VEVENT
UID:60b832d1b158d
DTSTART;VALUE=DATE:20210607
SEQUENCE:0
TRANSP:OPAQUE
DTEND;VALUE=DATE:20210611
URL:https://djj.georgia.gov/events/2021-06-07/professional-development
SUMMARY:Professional Development
CLASS:PUBLIC
X-MICROSOFT-CDO-ALLDAYEVENT:TRUE
DTSTAMP:20210602T213929Z
END:VEVENT
END:VCALENDAR